BEGIN:VCALENDAR
VERSION:2.0
PRODID:-//musikverein-bleichheim//NONSGML kigkonsult.se iCalcreator 2.30.10
 //
CALSCALE:GREGORIAN
METHOD:PUBLISH
UID:e15e8c10-ed8a-4239-bef6-e534a73f3a13
X-WR-CALNAME:iCagenda
X-WR-CALDESC:Event Management Extension for Joomla!
X-WR-RELCALID:3E26604A-50F4-4449-8B3E-E4F4932D05B5
X-WR-TIMEZONE:UTC
BEGIN:VTIMEZONE
TZID:UTC
END:VTIMEZONE
BEGIN:VEVENT
UID:f2e8de46-f035-4e26-9f23-911a324d9317
DTSTAMP:20260421T042022Z
CATEGORIES:Jungmusik
CLASS:PUBLIC
DESCRIPTION;ALTREP="CID:<FFFF__=0ABBE548DFE235B58f9e8a93d@coffeebean.com>":
 Herzlichen Glückwunsch zum bestandenen Jungmusikerleistungsabzeichen in Br
 onze.\nWir freuen uns euch in der Gesamtkapelle begrüßen zu dürfen.\nDas h
 abt ihr toll gemacht!\n{gallery alignment='before-float' layout='flow'&nbs
 p\;&nbsp\;&nbsp\; preview_border_width=2 preview_padding=2 }inhalte/photos
 /2024/jmla_november_2024{/gallery}\n&nbsp\;
DTSTART:20241116T164900Z
DTEND:20241116T164900Z
GEO:00;0
LOCATION:Kirchzarten
ORGANIZER:
SEQUENCE:1
SUMMARY:Jungmusiker-Leistungsabzeichen (JMLA) vom Oberbadischen Blasmusikve
 rband
TRANSP:OPAQUE
URL:https://musikverein-bleichheim.de/index.php/jugend/termine-jugend/236-j
 ungmusiker-leistungsabzeichen-jmla-vom-oberbadischen-blasmusikverband/2024
 -11-16-16-49
END:VEVENT
END:VCALENDAR
