BEGIN:VCALENDAR
VERSION:2.0
PRODID:-//musikverein-bleichheim//NONSGML kigkonsult.se iCalcreator 2.30.10
 //
CALSCALE:GREGORIAN
METHOD:PUBLISH
UID:497cf609-af92-4e28-9440-524ab79066a5
X-WR-CALNAME:iCagenda
X-WR-CALDESC:Event Management Extension for Joomla!
X-WR-RELCALID:3E26604A-50F4-4449-8B3E-E4F4932D05B5
X-WR-TIMEZONE:UTC
BEGIN:VTIMEZONE
TZID:UTC
END:VTIMEZONE
BEGIN:VEVENT
UID:b6d2fe3b-875c-479b-8f2c-bedf7ea353dc
DTSTAMP:20260424T084705Z
CATEGORIES:Gesamtkapelle
CLASS:PUBLIC
DESCRIPTION;ALTREP="CID:<FFFF__=0ABBE548DFE235B58f9e8a93d@coffeebean.com>":
 Mit drei Umzügen\, der Darstellung der Feuerteufelsage\, Feuerteufeltanz\,
  Feuerwerk\, Jubiläumszunftabend\, Zunftmeisterempfang und Narrentreiben i
 m Ort feierte die Narrenzunft Kollnau mit vielen Gästen ihr 60-jähriges Be
 stehen. Beim großen Jubiläumsumzug am Sonntagnachmittag und gleichzeitig d
 em 15. Vogteitreffen der Vogtei nördlicher Breisgau/Elztal war auch der Mu
 sikverein Bleichheim als musikalische Begleitung mit auf der Umzugsstrecke
 .\n{gallery}inhalte/photos/2017/narrentreffen_kollnau_2017{/gallery}
DTSTART:20170212T000000Z
DTEND:20170212T000000Z
GEO:00;0
LOCATION:
ORGANIZER:
SEQUENCE:1
SUMMARY:Vogteitreffen Kollnau
TRANSP:OPAQUE
URL:https://musikverein-bleichheim.de/index.php/rueckblick/117-vogteitreffe
 n-kollnau/2017-02-12-00-00
END:VEVENT
END:VCALENDAR
