BEGIN:VCALENDAR
VERSION:2.0
PRODID:-//musikverein-bleichheim//NONSGML kigkonsult.se iCalcreator 2.30.10
 //
CALSCALE:GREGORIAN
METHOD:PUBLISH
UID:345767e2-c5bd-42b5-86c7-309bf5c336bd
X-WR-CALNAME:iCagenda
X-WR-CALDESC:Event Management Extension for Joomla!
X-WR-RELCALID:3E26604A-50F4-4449-8B3E-E4F4932D05B5
X-WR-TIMEZONE:UTC
BEGIN:VTIMEZONE
TZID:UTC
END:VTIMEZONE
BEGIN:VEVENT
UID:0c9ff2aa-4301-4e04-86a6-456ced7cf81d
DTSTAMP:20260424T084339Z
CATEGORIES:Gesamtkapelle
CLASS:PUBLIC
DESCRIPTION;ALTREP="CID:<FFFF__=0ABBE548DFE235B58f9e8a93d@coffeebean.com>":
 Zu einem zünftigen Oktoberfest lud der Musikverein am Samstag\, 08.10.2016
  ab 19 Uhr auf das Gelände der Firma Holzbau Vetter ein. Der offizielle Fa
 ssanstich durch Bürgermeister Ernst Schilling wurde von einer kleinen Bese
 tzung des MVB mit traditioneller Blasmusik musikalisch umrahmt. Wie bereit
 s im vergangenen Jahr kam anschließend mit der Schlechtwetterkapelle aus W
 agshurst und Original bayrischem Staudenbräu in Bleichheim wieder ausgelas
 sene Bierzeltstimmung auf. Mit Oktoberfest-Klassikern wie Haxen\, Fleischk
 äse und selbst gemachter Pizza und Flammkuchen aus dem Holzofen konnten si
 ch die Gäste für wilde Tanzeinlagen und das obligatorische Maßkrug-Stemmen
  und Holz sägen stärken.\n{gallery}inhalte/photos/2016/oktoberfest_2016{/g
 allery}
DTSTART:20161008T000000Z
DTEND:20161008T000000Z
GEO:00;0
LOCATION:Gelände der Firma Holzbau Vetter
ORGANIZER:
SEQUENCE:1
SUMMARY:Herbstfest/Oktoberfest
TRANSP:OPAQUE
URL:https://musikverein-bleichheim.de/index.php/rueckblick/17-herbstfest-ok
 toberfest/2016-10-08-00-00
END:VEVENT
END:VCALENDAR
