BEGIN:VCALENDAR
VERSION:2.0
PRODID:-//musikverein-bleichheim//NONSGML kigkonsult.se iCalcreator 2.30.10
 //
CALSCALE:GREGORIAN
METHOD:PUBLISH
UID:78475120-b001-4d2e-b29c-549048da06f1
X-WR-CALNAME:iCagenda
X-WR-CALDESC:Event Management Extension for Joomla!
X-WR-RELCALID:3E26604A-50F4-4449-8B3E-E4F4932D05B5
X-WR-TIMEZONE:UTC
BEGIN:VTIMEZONE
TZID:UTC
END:VTIMEZONE
BEGIN:VEVENT
UID:491b49a5-cb25-4956-9b8b-e1c5d2f6b7c6
DTSTAMP:20260424T072130Z
CATEGORIES:Gesamtkapelle
CLASS:PUBLIC
DESCRIPTION;ALTREP="CID:<FFFF__=0ABBE548DFE235B58f9e8a93d@coffeebean.com>":
 Mit einem närrisschen Festwochenende feierte die Narrenzunft „Hanfrözi' Ru
 st mit vielen Gästen ihr 66-jähriges Bestehen. Beim großen Festumzug am So
 nntagnachmittag war auch der Musikverein Bleichheim als musikalische Begle
 itung mit der Narrenzunft Zynduss auf der Umzugsstrecke.\n{gallery}inhalte
 /photos/2020/Umzug-Rust-2020{/gallery}
DTSTART:20200209T000000Z
DTEND:20200209T000000Z
GEO:00;0
LOCATION:
ORGANIZER:
SEQUENCE:1
SUMMARY:Narrentreffen Rust
TRANSP:OPAQUE
URL:https://musikverein-bleichheim.de/index.php/rueckblick/197-narrentreffe
 n-rust/2020-02-09-00-00
END:VEVENT
END:VCALENDAR
