BEGIN:VCALENDAR
VERSION:2.0
PRODID:-//musikverein-bleichheim//NONSGML kigkonsult.se iCalcreator 2.30.10
 //
CALSCALE:GREGORIAN
METHOD:PUBLISH
UID:bf023312-0453-4c61-94d9-759d41e2bb74
X-WR-CALNAME:iCagenda
X-WR-CALDESC:Event Management Extension for Joomla!
X-WR-RELCALID:3E26604A-50F4-4449-8B3E-E4F4932D05B5
X-WR-TIMEZONE:UTC
BEGIN:VTIMEZONE
TZID:UTC
END:VTIMEZONE
BEGIN:VEVENT
UID:76583431-f412-4301-986f-5df28bbff377
DTSTAMP:20260425T105144Z
CATEGORIES:Gesamtkapelle
CLASS:PUBLIC
DESCRIPTION;ALTREP="CID:<FFFF__=0ABBE548DFE235B58f9e8a93d@coffeebean.com>":
 Auf Grund der Corona-Pandemie fand die Generalversammlung nicht wie gewohn
 t im Probelokal statt\, sondern wurde als 1. Online-Generalversammlung dur
 chgeführt.\nSeit der letzten Generalversammlung im Jahr 2020 konnten leide
 r nur 2 Aktivitäten durchgeführt werden. Koordinator Jürgen Vetter unterst
 rich aber\, dass&nbsp\;der MVB bereit wäre\, sobald es wieder Lockerungen 
 gibt\, Veranstaltungen durchzuführen die für den MVB sinnvoll und durchfüh
 rbar sind.&nbsp\;\nDie große Hoffnung ist\, dass ab Herbst hoffentlich wie
 der ein normaler Probenbetrieb möglich ist.\nTrotz all den momentanen Eins
 chränkungen freuten sich die Musiker und deren Gäste\, sich wenigstens onl
 ine einmal wiederzusehen.
DTSTART:20210327T200000Z
DTEND:20210327T200000Z
GEO:00;0
LOCATION:
ORGANIZER:
SEQUENCE:1
SUMMARY:Online-Generalversammlung
TRANSP:OPAQUE
URL:https://musikverein-bleichheim.de/index.php/rueckblick/202-online-gener
 alversammlung
END:VEVENT
END:VCALENDAR
