BEGIN:VCALENDAR
VERSION:2.0
PRODID:-//musikverein-bleichheim//NONSGML kigkonsult.se iCalcreator 2.30.10
 //
CALSCALE:GREGORIAN
METHOD:PUBLISH
UID:96e53a71-62f5-4af4-bb6b-ca3dcc070636
X-WR-CALNAME:iCagenda
X-WR-CALDESC:Event Management Extension for Joomla!
X-WR-RELCALID:3E26604A-50F4-4449-8B3E-E4F4932D05B5
X-WR-TIMEZONE:UTC
BEGIN:VTIMEZONE
TZID:UTC
END:VTIMEZONE
BEGIN:VEVENT
UID:02e133a2-49ba-42f4-9806-b116bcae4af9
DTSTAMP:20260424T084034Z
CATEGORIES:Gesamtkapelle
CLASS:PUBLIC
DESCRIPTION;ALTREP="CID:<FFFF__=0ABBE548DFE235B58f9e8a93d@coffeebean.com>":
 Im Anschluss an den Eröffnungsgottesdienst geleitete der Musikverein in al
 ljährlicher Tradition die Prozession mit feierlichen Märschen durch Bleich
 heims Straßen.\n&nbsp\;
DTSTART:20160529T000000Z
DTEND:20160529T000000Z
GEO:00;0
LOCATION:Bleichheim
ORGANIZER:
SEQUENCE:1
SUMMARY:Fronleichnam
TRANSP:OPAQUE
URL:https://musikverein-bleichheim.de/index.php/rueckblick/21-fronleichnam/
 2016-05-29-00-00
END:VEVENT
END:VCALENDAR
