BEGIN:VCALENDAR
VERSION:2.0
PRODID:-//musikverein-bleichheim//NONSGML kigkonsult.se iCalcreator 2.30.10
 //
CALSCALE:GREGORIAN
METHOD:PUBLISH
UID:52e43226-d433-4b79-bc1b-cbbf500a91c6
X-WR-CALNAME:iCagenda
X-WR-CALDESC:Event Management Extension for Joomla!
X-WR-RELCALID:3E26604A-50F4-4449-8B3E-E4F4932D05B5
X-WR-TIMEZONE:UTC
BEGIN:VTIMEZONE
TZID:UTC
END:VTIMEZONE
BEGIN:VEVENT
UID:1ad42aae-15d9-4f75-b239-c5a2ceba8386
DTSTAMP:20260424T084741Z
CATEGORIES:Gesamtkapelle
CLASS:PUBLIC
DESCRIPTION;ALTREP="CID:<FFFF__=0ABBE548DFE235B58f9e8a93d@coffeebean.com>":
 Erfolgreiche Premiere mit neuem Dirigenten Rainer Sachs\nDer Musikverein B
 leichheim e.V. überzeugte unter der neuen musikalischen Leitung mit einem 
 rundum gelungenen Konzertabend\nDer Musikverein Bleichheim geht seit Anfan
 g des Jahres mit seinem neuen Dirigenten Rainer Sachs gemeinsame Wege und 
 begeisterte das Publikum am vergangenen Samstag bei seinem Konzertdebüt im
  Bürgerhaus in Tutschfelden.\n„The New Village“ – eine klingende Dorfgesch
 ichte des renommierten niederländischen Komponisten Kees Vlak – war Mottog
 eber für den Konzertabend und zeigte eindrucksvoll\, dass der neue Dirigen
 t bereits nach vier Monaten eine sehr gute musikalische Qualität und ein h
 ervorragendes Zusammenspiel mit den Musikern in seinem „neuen Dorf“ heraus
 gearbeitet hat. Der in Freiburg lebende Rainer Sachs betonte in einer kurz
 en persönlichen Ansprache seine Zufriedenheit über den Fortschritt\, den e
 r mit seinem Orchester in so kurzer Zeit bereits erzielt hat und freut sic
 h sehr auf die weitere Zusammenarbeit mit den Musikern weil beide Seiten n
 icht nur musikalisch sondern auch persönlich voll und ganz auf einer Welle
 nlänge liegen.\nBereits im Probedirigat habe er sehr konzentriert an dem K
 onzertwerk „Ross Roy“ mit den Musikern gearbeitet und der musikalische Fun
 ke sei sofort übergesprungen. Daher war es naheliegend dieses Auftragsstüc
 k von Jacob de Haan auch ins Programm des ersten gemeinsamen Konzerts aufz
 unehmen. Die Begeisterung und der Applaus des Publikums bestätigte diese E
 ntscheidung ohne Zweifel und auch bei der Wahl der weiteren Stücke für das
  Gesamtorchester hat Sachs den Geschmack des Publikums getroffen und gleic
 hzeitig die Stärken des Musikvereins perfekt inszeniert. Der schwungvolle 
 Start in den ersten Konzertteil der Gesamtkapelle mit dem „Marcha de Liber
 tad“ überzeugte die gespannten Zuhörer gleichermaßen wie die ruhigen Töne 
 von Paul Simons „The Sound of Silence“.\nNeben den Musikern der Gesamtkape
 lle hatten auch die Jungmusiker des Vereins zum Eröffnungsstück „Ammerland
 “ von Jacob de Haan auf der Bühne Platz genommen. Mit Ihrem Dirigenten Mar
 tin Appenmaier hatten sich die Bleichheimer Nachwuchstalente auf den Konze
 rtabend vorbereitet und integrierten sich klanglich hervorragend in das Ge
 samtorchester. Aber auch ohne Unterstützung der Gesamtkapelle konnten Sie 
 glänzen und zeigten unter der Leitung von Rainer Sachs mit „Dakota“\, eine
 m anspruchsvollen Werk aus fünf Sätzen von Jacob de Haan\, welches Potenzi
 al in Ihnen steckt.\nDass die Jugendarbeit ein wichtiger Bestandteil der V
 ereinsarbeit ist und Sachs darin eine unverzichtbare Investition in die Zu
 kunft des Vereins sieht\, hatte er in seinem Vorstellungsgespräch im Dezem
 ber bereits betont. Mit „Foggy Island“ von Patrick Egge nutzte er die Chan
 ce\, auch die jüngsten Musiker in sein Auftaktkonzert zu integrieren. Denn
  das Werk\, das beim Kompositionswettbewerb zum Landesmusikfest Karlsruhe 
 2015 gewonnen hat\, kann gemeinsam mit einem Blockflötenensemble gespielt 
 werden und das haben die Blockflötenschüler und Spieler aus den Musikerrei
 hen mit Bravour gemeistert.\nEher lässig und entspannt ging es nach der Pa
 use mit „Straight Fit“ weiter. Komponist Thiemo Kraas hat die Idee des „ge
 raden Schnittes“ einer Jeanshose auf kreative Weise in seiner Rockkomposit
 ion für Blasorchester übernommen und daraus wurde eine lässige Musik mit v
 orwärtstreibendem\, geradlinigem Groove\, die universell einsetzbar ist un
 d damit beim zweiten Konzertteil die perfekte Überleitung zum funkigen Roc
 ksound von „Atlantic Avenue“ darstellte. Mit Elementen aus Doo-Wop\, Soul 
 und Swing schafften die Musiker eine tolle Atmosphäre von Strand und Sonne
 nschein und machten Lust auf einen Cocktail in der Bar des frühlingshaft d
 ekorierten Bürgerhaus in Tutschfelden. Aber auch den Freunden der traditio
 nellen Blasmusik wurde Rechnung getragen. Die Polka „Ehrenwert“ wurde anlä
 sslich des 55-jährigen Jubiläums des bekannten Musikverlags Rundel geschri
 eben und verkörpert die Philosophie des Verlages\, das Traditionelle mit d
 em Modernen zu verbinden. Treffender hätte der Übergang zum letzten Stück 
 des Konzertabends nicht gewählt werden können.\nModerator Dieter Machauer\
 , der wieder einmal wortgewandt durch das Programm führte und die musikali
 schen Themen geschickt mit Impressionen aus dem Bleichtal verknüpfte\, fre
 ute sich\, dass so viele Menschen dem Musikverein die Treue gehalten haben
  und nach mittlerweile vier Jahren wieder Teil eines unvergesslichen Konze
 rtabends geworden sind. Die Begeisterung der Zuhörer war kaum zu überhören
  und so forderte die begeisterte Menge mit Standing Ovations zwei weitere 
 Zugaben\, darunter auch der bekannte „Flieger-Marsch“\, im nahezu ausverka
 uften Bürgerhaus ein.\nDer Dank von Repräsentant Helmut Vetter galt allen\
 , die in der Vorbereitung und Durchführung des Abends beteiligt waren.\n&n
 bsp\;\n{gallery}inhalte/photos/2023/Jahreskonzert_2023{/gallery}
DTSTART:20230513T200000Z
DTEND:20230513T200000Z
GEO:00;0
LOCATION:Bürgerhaus Tutschfelden
ORGANIZER:
SEQUENCE:1
SUMMARY:Jahreskonzert
TRANSP:OPAQUE
URL:https://musikverein-bleichheim.de/index.php/rueckblick/213-jahreskonzer
 t-5/2023-05-13-20-00
END:VEVENT
END:VCALENDAR
