BEGIN:VCALENDAR
VERSION:2.0
PRODID:-//musikverein-bleichheim//NONSGML kigkonsult.se iCalcreator 2.30.10
 //
CALSCALE:GREGORIAN
METHOD:PUBLISH
UID:8c3d90a3-d313-4873-89cf-67af006b18c8
X-WR-CALNAME:iCagenda
X-WR-CALDESC:Event Management Extension for Joomla!
X-WR-RELCALID:3E26604A-50F4-4449-8B3E-E4F4932D05B5
X-WR-TIMEZONE:UTC
BEGIN:VTIMEZONE
TZID:UTC
END:VTIMEZONE
BEGIN:VEVENT
UID:582b8ed9-9e4b-443c-bdad-3bd34e43f65a
DTSTAMP:20260424T101146Z
CATEGORIES:Gesamtkapelle
CLASS:PUBLIC
DESCRIPTION;ALTREP="CID:<FFFF__=0ABBE548DFE235B58f9e8a93d@coffeebean.com>":
 Nach zwei Jahren Probewochenende in den heimischen Räumlichkeiten\, packte
 n die Musiker im Jahr 2016 wieder einmal ihre Koffer und machten sich geme
 insam auf den Weg in die Jugendherberge Rudenberg bei Titisee-Neustadt. Na
 ch einem gemeinsamen Abendessen starteten sie in die erste Probe und verbr
 achten anschließend einen gemütlichen Abend. Auch am Samstag und Sonntag b
 ereiteten sich die motivierten Musiker in zahlreichen Satz- und Gesamtprob
 en auf das bevorstehende Jahreskonzert am Pfingstwochenende vor. Die Zeit 
 zwischen und nach den Proben wurde nicht nur genutzt\, um die Kameradschaf
 t zu pflegen sondern auch\, um kreative Vorarbeit für die Dekoration in de
 r Halle zu leisten und so traten alle Musiker erschöpft aber zufrieden übe
 r den (musikalischen) Fortschritt am Sonntagmittag wieder die Heimreise an
 .\n{gallery}inhalte/photos/2016/probe_we_2016{/gallery}
DTSTART:20160408T000000Z
DTEND:20160410T000000Z
GEO:00;0
LOCATION:Rudenberg
ORGANIZER:
SEQUENCE:1
SUMMARY:Probenwochenende
TRANSP:OPAQUE
URL:https://musikverein-bleichheim.de/index.php/rueckblick/22-probenwochene
 nde/2016-04-08-00-00
END:VEVENT
END:VCALENDAR
