BEGIN:VCALENDAR
VERSION:2.0
PRODID:-//musikverein-bleichheim//NONSGML kigkonsult.se iCalcreator 2.30.10
 //
CALSCALE:GREGORIAN
METHOD:PUBLISH
UID:bce693a1-4f6c-4fd3-ab22-30c69f845469
X-WR-CALNAME:iCagenda
X-WR-CALDESC:Event Management Extension for Joomla!
X-WR-RELCALID:3E26604A-50F4-4449-8B3E-E4F4932D05B5
X-WR-TIMEZONE:UTC
BEGIN:VTIMEZONE
TZID:UTC
END:VTIMEZONE
BEGIN:VEVENT
UID:6f851003-a714-4162-af0f-a59e284be68f
DTSTAMP:20260424T084426Z
CATEGORIES:Gesamtkapelle
CLASS:PUBLIC
DESCRIPTION;ALTREP="CID:<FFFF__=0ABBE548DFE235B58f9e8a93d@coffeebean.com>":
 &nbsp\;Zum 200-jährigen Bestehen der Fasnet in Kenzingen begleitete der Mu
 sikverein Bleichheim am Sonntagnachmittag die Narrenzunft Zynduss. Der gro
 ße Festumzug fand bei strahlendem Sonnenschein statt.\nDer Musikverein unt
 erhielt die zahlreichen Zuschauer und Narren mit den traditionellen Lausit
 zer Märschen Nr. 1 und 3.\n{gallery}inhalte/photos/2024/narrentreffen_kenz
 ingen_2024{/gallery}\n&nbsp\;
DTSTART:20240128T141100Z
DTEND:20240128T141100Z
GEO:00;0
LOCATION:
ORGANIZER:
SEQUENCE:1
SUMMARY:Narrentreffen Kenzingen
TRANSP:OPAQUE
URL:https://musikverein-bleichheim.de/index.php/rueckblick/225-narrentreffe
 n-kenzingen/2024-01-28-14-11
END:VEVENT
END:VCALENDAR
