BEGIN:VCALENDAR
VERSION:2.0
PRODID:-//musikverein-bleichheim//NONSGML kigkonsult.se iCalcreator 2.30.10
 //
CALSCALE:GREGORIAN
METHOD:PUBLISH
UID:186979ad-76be-4a43-9b88-1a18f32116fa
X-WR-CALNAME:iCagenda
X-WR-CALDESC:Event Management Extension for Joomla!
X-WR-RELCALID:3E26604A-50F4-4449-8B3E-E4F4932D05B5
X-WR-TIMEZONE:UTC
BEGIN:VTIMEZONE
TZID:UTC
END:VTIMEZONE
BEGIN:VEVENT
UID:d8c5bba1-4f7b-455b-a1d9-162883b01c50
DTSTAMP:20260424T084034Z
CATEGORIES:Gesamtkapelle
CLASS:PUBLIC
DESCRIPTION;ALTREP="CID:<FFFF__=0ABBE548DFE235B58f9e8a93d@coffeebean.com>":
 Mit „Yellow Mountains“ eröffnete der Musikverein Bleichheim gemeinsam mit 
 der Jugendkappelle das Jahreskonzert unter dem Motto „Ferne Weite“. Die Ju
 gendkappelle übernahm zunächst mit seinem Dirigenten Martin Appenmaier die
  musikalische Reise mit vielseitigen Stücken wie „Winnetou“\, „Jupiter“ od
 er „You raise me up“. Mit großem Applaus wurden die Jungmusiker von der Bü
 hne verabschiedet und die Gesamtkappelle nahm unter der Leitung von Rainer
  Sachs Platz. Die Zuschauer wurden von Dieter Machauer charmant auf die mu
 sikalische Reise geschickt.\nEin besonderes Highlight des Abends war die K
 omposition „Ferne Weite“ von Rolf Rudin. Das Stück lädt ein\, seinen Blick
  über weite Landschaften schweifen zu lassen. Die Blasmusiker entführte di
 e Gäste mit „Procession of the Sorcerers“ in Merlins Schloss. Der französi
 sche Komponist Hardy Mertens schuf „mit Rose des Sables“ ein schwungvolles
  wildes Werk.\nNach der Pause nahmen die Aufführenden ihr Publikum mit auf
  „Unsere Reise“ (Fäaschtbänkler). Die „Appalachian Overture“ ist folkloris
 tisch angehaucht. In der von James Barnes geschriebenen Melodie erklangen 
 einige Solopassagen\, die Abenteuer pur in endloser Weite vermittelten. Zu
  den bekanntesten Filmmelodien zählt „Jenseits von Afrika“\, das Rainer Sa
 chs in das sorgfältig ausgewählte Musikerrepertoire integrierte. Die Weite
  erahnten die Besucher in der Serengeti. Von Afrika ging es mit heißen Rhy
 thmen - „El Cumbanchero“ - von Mexiko zur brasilianischen „Copacabana“. Di
 e Musiker – vor allem die Schlagzeuger - brachten ihre Instrumente zum Glü
 hen.\nMit dem Schönfeld- und Fliegermarsch verabschiedete sich der Musikve
 rein von seinem begeisterten Publikum. Die Auswahl der Musikstücke sei seh
 r einfallsreich\, hochwertig und mitreißend gewesen\, erklärten zufriedene
  Konzertbesucher bei Verlassen des Bürgerhauses.\n{gallery}inhalte/photos/
 2024/jahreskonzert_2024{/gallery}
DTSTART:20240406T200000Z
DTEND:20240406T200000Z
GEO:00;0
LOCATION:Bürgerhaus Tutschfelden
ORGANIZER:
SEQUENCE:1
SUMMARY:Jahreskonzert „Ferne Weite“
TRANSP:OPAQUE
URL:https://musikverein-bleichheim.de/index.php/rueckblick/228-jahreskonzer
 t-6/2024-04-06-20-00
END:VEVENT
END:VCALENDAR
