BEGIN:VCALENDAR
VERSION:2.0
PRODID:-//musikverein-bleichheim//NONSGML kigkonsult.se iCalcreator 2.30.10
 //
CALSCALE:GREGORIAN
METHOD:PUBLISH
UID:41356034-0816-4afd-8403-db1d22774905
X-WR-CALNAME:iCagenda
X-WR-CALDESC:Event Management Extension for Joomla!
X-WR-RELCALID:3E26604A-50F4-4449-8B3E-E4F4932D05B5
X-WR-TIMEZONE:UTC
BEGIN:VTIMEZONE
TZID:UTC
END:VTIMEZONE
BEGIN:VEVENT
UID:600620ad-3cda-4368-a3be-d764e3e34b84
DTSTAMP:20260424T082138Z
CATEGORIES:Gesamtkapelle
CLASS:PUBLIC
DESCRIPTION;ALTREP="CID:<FFFF__=0ABBE548DFE235B58f9e8a93d@coffeebean.com>":
 Mit „Arsenal“ und „Südböhmische Polka“ hat der Musikverein Bleichheim sein
 e Generalversammlung um 20 Uhr im heimischen Probelokal eröffnet.  \n   Di
 e Vorstandschaft hat sich neu aufgestellt und wurde für die kommenden zwei
  Jahre gewählt.
DTSTART:20160312T000000Z
DTEND:20160312T000000Z
GEO:00;0
LOCATION:Probelokal Bleichheim
ORGANIZER:
SEQUENCE:1
SUMMARY:Generalversammlung
TRANSP:OPAQUE
URL:https://musikverein-bleichheim.de/index.php/rueckblick/23-generalversam
 mlung/2016-03-12-00-00
END:VEVENT
END:VCALENDAR
