BEGIN:VCALENDAR
VERSION:2.0
PRODID:-//musikverein-bleichheim//NONSGML kigkonsult.se iCalcreator 2.30.10
 //
CALSCALE:GREGORIAN
METHOD:PUBLISH
UID:522d82cc-3b67-41fe-aa9b-95dc0c887632
X-WR-CALNAME:iCagenda
X-WR-CALDESC:Event Management Extension for Joomla!
X-WR-RELCALID:3E26604A-50F4-4449-8B3E-E4F4932D05B5
X-WR-TIMEZONE:UTC
BEGIN:VTIMEZONE
TZID:UTC
END:VTIMEZONE
BEGIN:VEVENT
UID:d718c747-561c-40ed-a440-fce5dfb3b912
DTSTAMP:20260424T082333Z
CATEGORIES:Gesamtkapelle
CLASS:PUBLIC
DESCRIPTION;ALTREP="CID:<FFFF__=0ABBE548DFE235B58f9e8a93d@coffeebean.com>":
 40 Jahre Bachdatscher zogen 2500 Hästräger\, Gugge-Musiker und weitere Fas
 entsgruppen in das kleine Dorf. Am Sonntag war auch der MVB Teil des närri
 schen Treibens und zog mit dem Jubiläumsumzug durch Nordweils Straßen.\n{g
 allery}inhalte/photos/2016/narrentreffen_nordweil_2016{/gallery}
DTSTART:20160117T000000Z
DTEND:20160117T000000Z
GEO:00;0
LOCATION:Nordweil
ORGANIZER:
SEQUENCE:1
SUMMARY:Jubiläumsumzug Nordweil
TRANSP:OPAQUE
URL:https://musikverein-bleichheim.de/index.php/rueckblick/24-jubilaeumsumz
 ug-nordweil/2016-01-17-00-00
END:VEVENT
END:VCALENDAR
