BEGIN:VCALENDAR
VERSION:2.0
PRODID:-//musikverein-bleichheim//NONSGML kigkonsult.se iCalcreator 2.30.10
 //
CALSCALE:GREGORIAN
METHOD:PUBLISH
UID:f673b98d-ada4-4752-b1c5-46090a512137
X-WR-CALNAME:iCagenda
X-WR-CALDESC:Event Management Extension for Joomla!
X-WR-RELCALID:3E26604A-50F4-4449-8B3E-E4F4932D05B5
X-WR-TIMEZONE:UTC
BEGIN:VTIMEZONE
TZID:UTC
END:VTIMEZONE
BEGIN:VEVENT
UID:1b7e0522-4b7e-4e27-a15d-5cf2d3610284
DTSTAMP:20260424T084619Z
CATEGORIES:Gesamtkapelle
CLASS:PUBLIC
DESCRIPTION;ALTREP="CID:<FFFF__=0ABBE548DFE235B58f9e8a93d@coffeebean.com>":
 Gerne sind wir der Einladung zum Sommerfest unserer Nachbarn in Kirnhalden
  gefolgt.\nDer Musikverein Bleichheim eröffnete das Sommerfest im Innenhof
  mit Flashlights. Auch die nachfolgenden Stücke fanden großen Zuspruch bei
 m Publikum.Trotz hochsommerlicher Temperaturen ließen es sich manche Zuhör
 er nicht nehmen\, zu unseren Rhythmen zu tanzen.\nIm Anschluss folgte an a
 bwechslungsreiches Rahmenprogramm\, auch für die jüngsten Gäste.\n&nbsp\;
 \n{gallery layout='packed'}/inhalte/photos/2024/sommerfest_kirnhalden_2024
 {/gallery}
DTSTART:20240721T081000Z
DTEND:20240721T081000Z
GEO:00;0
LOCATION:
ORGANIZER:
SEQUENCE:1
SUMMARY:Sommerfest Kirnhalden
TRANSP:OPAQUE
URL:https://musikverein-bleichheim.de/index.php/rueckblick/245-sommerfest-k
 irnhalden/2024-07-21-08-10
END:VEVENT
END:VCALENDAR
