BEGIN:VCALENDAR
VERSION:2.0
PRODID:-//musikverein-bleichheim//NONSGML kigkonsult.se iCalcreator 2.30.10
 //
CALSCALE:GREGORIAN
METHOD:PUBLISH
UID:ee885bdb-b38b-423c-8544-73982d31b931
X-WR-CALNAME:iCagenda
X-WR-CALDESC:Event Management Extension for Joomla!
X-WR-RELCALID:3E26604A-50F4-4449-8B3E-E4F4932D05B5
X-WR-TIMEZONE:UTC
BEGIN:VTIMEZONE
TZID:UTC
END:VTIMEZONE
BEGIN:VEVENT
UID:ed987686-04d2-4059-9a83-0892ab434451
DTSTAMP:20260424T084909Z
CATEGORIES:Gesamtkapelle
CLASS:PUBLIC
DESCRIPTION;ALTREP="CID:<FFFF__=0ABBE548DFE235B58f9e8a93d@coffeebean.com>":
 60 Jahre Sendewelle Altdorf wurden mit einem Festwochenende\, Vogteitreffe
 n\, Narrendorf und zwei Umzügen gefeiert. Der Musikverein begleitete die Z
 yndusse beim Jubiläumsumzug am Sonntag Nachmittag musikalisch.\n{gallery}i
 nhalte/photos/2016/narrentreffen_altdorf_2016{/gallery}
DTSTART:20160110T000000Z
DTEND:20160110T000000Z
GEO:00;0
LOCATION:Altdorf
ORGANIZER:
SEQUENCE:1
SUMMARY:Vogteitreffen Ortenau
TRANSP:OPAQUE
URL:https://musikverein-bleichheim.de/index.php/rueckblick/25-vogteitreffen
 -ortenau/2016-01-10-00-00
END:VEVENT
END:VCALENDAR
