BEGIN:VCALENDAR
VERSION:2.0
PRODID:-//musikverein-bleichheim//NONSGML kigkonsult.se iCalcreator 2.30.10
 //
CALSCALE:GREGORIAN
METHOD:PUBLISH
UID:c3a3606e-c7dd-4bbe-9700-0c1223eae5d1
X-WR-CALNAME:iCagenda
X-WR-CALDESC:Event Management Extension for Joomla!
X-WR-RELCALID:3E26604A-50F4-4449-8B3E-E4F4932D05B5
X-WR-TIMEZONE:UTC
BEGIN:VTIMEZONE
TZID:UTC
END:VTIMEZONE
BEGIN:VEVENT
UID:865e8e6e-0962-4682-a78d-f9a055ce8113
DTSTAMP:20260424T082433Z
CATEGORIES:Gesamtkapelle
CLASS:PUBLIC
DESCRIPTION;ALTREP="CID:<FFFF__=0ABBE548DFE235B58f9e8a93d@coffeebean.com>":
 An einem Samstag im November wurde wieder einmal gemeinschaftlich im und u
 ms Probelokal für Ordnung gesorgt. Dem Wetter zu urteilen stand die Aktion
  mehr unter dem Motto „Frühjahrsputz“ denn „winterfest machen“. Die fleißi
 gen Helfer sortierten Noten und Uniformen\, bauten Regale und kümmerten si
 ch um alle Dinge\, die sich angesammelt hatten und können sich nun wieder 
 musikalisch in ihrem aufgeräumten Probelokal austoben.\n{gallery}inhalte/p
 hotos/2015/aufraeumtag_2015{/gallery}\n&nbsp\;
DTSTART:20151109T000000Z
DTEND:20151109T000000Z
GEO:00;0
LOCATION:Probelokal Bleichheim
ORGANIZER:
SEQUENCE:1
SUMMARY:Aufräumtag
TRANSP:OPAQUE
URL:https://musikverein-bleichheim.de/index.php/rueckblick/26-aufraeumtag/2
 015-11-09-00-00
END:VEVENT
END:VCALENDAR
