BEGIN:VCALENDAR
VERSION:2.0
PRODID:-//musikverein-bleichheim//NONSGML kigkonsult.se iCalcreator 2.30.10
 //
CALSCALE:GREGORIAN
METHOD:PUBLISH
UID:be2f0125-f5fd-42cc-8e30-2a35aad17ec2
X-WR-CALNAME:iCagenda
X-WR-CALDESC:Event Management Extension for Joomla!
X-WR-RELCALID:3E26604A-50F4-4449-8B3E-E4F4932D05B5
X-WR-TIMEZONE:UTC
BEGIN:VTIMEZONE
TZID:UTC
END:VTIMEZONE
BEGIN:VEVENT
UID:0661f8cb-793d-4bfe-b6eb-24b84967510b
DTSTAMP:20260424T084115Z
CATEGORIES:Gesamtkapelle
CLASS:PUBLIC
DESCRIPTION;ALTREP="CID:<FFFF__=0ABBE548DFE235B58f9e8a93d@coffeebean.com>":
 Bevor der offizielle Frühschoppen am Sonntag begann\, vertieften die Musik
 er/innen aus Walkertshofen und Bleichheim ihre Freundschaft getreu dem Mot
 to „Gaudi-Musik'.  Ab 10.30 Uhr begrüßte der MVB seine Gäste zum Frühschop
 pen. Neben unserer befreundeten Brass Band aus Blauen in der Schweiz spiel
 te auch ein Hornquartett und zum Abschluss eine kleine Abordnung des MVB z
 ur Unterhaltung der zahlreichen Gäste. Der Musikverein ließ sein Jubiläums
 wochenende nach dem leckeren Mittagessen mit Kaffee und Kuchen gemütlich a
 usklingen.\n{gallery}inhalte/photos/2015/jubilaeum_sonntag_2015{/gallery}
DTSTART:20150920T103000Z
DTEND:20150920T103000Z
GEO:00;0
LOCATION:Gelände der Firma Holzbau Vetter
ORGANIZER:
SEQUENCE:1
SUMMARY:130 Jahre MVB – Wir feiern Geburtstag - Frühschoppen
TRANSP:OPAQUE
URL:https://musikverein-bleichheim.de/index.php/rueckblick/27-130-jahre-mvb
 -wir-feiern-geburtstag-fruehschoppen/2015-09-20-10-30
END:VEVENT
END:VCALENDAR
