BEGIN:VCALENDAR
VERSION:2.0
PRODID:-//musikverein-bleichheim//NONSGML kigkonsult.se iCalcreator 2.30.10
 //
CALSCALE:GREGORIAN
METHOD:PUBLISH
UID:70eef29d-d8d8-447d-8b43-a074ae58d7d0
X-WR-CALNAME:iCagenda
X-WR-CALDESC:Event Management Extension for Joomla!
X-WR-RELCALID:3E26604A-50F4-4449-8B3E-E4F4932D05B5
X-WR-TIMEZONE:UTC
BEGIN:VTIMEZONE
TZID:UTC
END:VTIMEZONE
BEGIN:VEVENT
UID:458f8be3-9da6-4978-8203-2ebd4dcddab9
DTSTAMP:20260424T084833Z
CATEGORIES:Gesamtkapelle
CLASS:PUBLIC
DESCRIPTION;ALTREP="CID:<FFFF__=0ABBE548DFE235B58f9e8a93d@coffeebean.com>":
 Unter dem Motto „130 Jahre MVB – Wir feiern Geburtstag“ fand am Freitag ei
 ne offizielle Feier in der Kirnburghalle in Bleichheim statt. Nach dem Ein
 lass mit Sektempfang ab 19 Uhr begrüßte der MVB seine Gäste musikalisch mi
 t der Auftragskomposition „Aufbruch zur Kirnburg“\, die 5 Jahre zuvor beim
  125-jährigen Jubiläum uraufgeführt wurde. Nach den Grußworten von Ernst S
 chilling und Ortsvorsteher Patrik Vetter leiteten die Musiker unter der Le
 itung ihres Dirigenten Udo Schmitz mit dem Konzertmarsch Arsenal zu einer 
 besonderen Ehrung über. Dr. Harald Bobeth\, Präsident des Oberbadischen Bl
 asmusikverband Breisgau e.V.\, konnte Alfred Glöckle für 65 Jahre aktive M
 itgliedschaft im Musikverein Bleichheim ehren. Die durch Repräsentant Diet
 er Machauer durchgeführte Vereinsehrung wurde durch das Wunschstück des Ge
 ehrten „Silva Nigra“ musikalisch abgerundet und das Publikum und die Musik
 er zeigten ihre Anerkennung für die Leistungen von Alfred Glöckle mit steh
 enden Ovationen. Eine weitere Verbandsehrung wurde Ingo Zähringer für 25 J
 ahre aktive Mitgliedschaft zuteil. Volker Glöckle wurde vom Verein für 30 
 Jahre aktive Mitgliedschaft und Simon Hüglin wurde für 20 Jahre Zugehörigk
 eit vom Verein geehrt. Gehuldigt wurde allen Geehrten mit dem Konzertmarsc
 h „Die Sonne geht auf“. Neben den Grußworten der Bleichheimer Vereine (Dav
 id Machauer für die KJG\, Erich Hepp für die Vereinsgemeinschaft und die N
 arrenzunft\, Clemens Vetter und Anika Körting für den TuS Bleichheim)\, gr
 atulierte auch der Musikverein Wagenstadt durch Uli Höhn zum Jubiläum des 
 MVB. Im „Dialog der Generationen“ ließen Lena-Maria und Dieter Machauer no
 ch einmal die wichtigsten Ereignisse der letzten 5 Jahre Revue passieren u
 nd die Musiker beschlossen den Abend mit dem gleichnamigen Stück\, mit dem
  Sie beim Wertungsspiel im Frühjahr beim Landesmusikfest mit sehr gutem Er
 folg teilgenommen haben. Als Zugabe erklang der Florentiner Marsch und die
  Musiker konnten sich und ihren Verein anschließend noch in gemütlicher Ru
 nde in der Kirnburghalle in Bleichheim feiern.\n{gallery}inhalte/photos/20
 15/jubilaeum_freitag_2015{/gallery}
DTSTART:20150918T200000Z
DTEND:20150918T200000Z
GEO:00;0
LOCATION:Kirnburghalle Bleichheim
ORGANIZER:
SEQUENCE:1
SUMMARY:130 Jahre MVB – Wir feiern Geburtstag - Festbankett
TRANSP:OPAQUE
URL:https://musikverein-bleichheim.de/index.php/rueckblick/29-130-jahre-mvb
 -wir-feiern-geburtstag-festbankett/2015-09-18-20-00
END:VEVENT
END:VCALENDAR
