BEGIN:VCALENDAR
VERSION:2.0
PRODID:-//musikverein-bleichheim//NONSGML kigkonsult.se iCalcreator 2.30.10
 //
CALSCALE:GREGORIAN
METHOD:PUBLISH
UID:8788e3a3-b0ac-4f7c-8515-a314213307aa
X-WR-CALNAME:iCagenda
X-WR-CALDESC:Event Management Extension for Joomla!
X-WR-RELCALID:3E26604A-50F4-4449-8B3E-E4F4932D05B5
X-WR-TIMEZONE:UTC
BEGIN:VTIMEZONE
TZID:UTC
END:VTIMEZONE
BEGIN:VEVENT
UID:35f7ea03-2f7a-44eb-bd11-bfb518f097c6
DTSTAMP:20260424T095241Z
CATEGORIES:Gesamtkapelle
CLASS:PUBLIC
DESCRIPTION;ALTREP="CID:<FFFF__=0ABBE548DFE235B58f9e8a93d@coffeebean.com>":
 Nach dem Frühschoppenkonzert beim Stockbrunnenfest in Broggingen machten s
 ich die Musiker/innen sofort auf den Weg zu den Musikerfreunden aus Nordwe
 il.  90 Jahre Musikverein Nordweil wollen gefeiert werden. Zu diesem Anlas
 s marschierten die Musiker des MVB beim Festumzug durch Nordweils Straßen 
 und unterhielten die Zuschauer mit 'San Carlo' und 'Saluto Lugano'. Im Ste
 inbruch spielten die Musikvereine zum Abschluss gemeinsam das Hoch Badnerl
 and – geleitet wurde der Massenchor vom Dirigenten des Jubiläumsvereines M
 V Nordweil.\n{gallery}inhalte/photos/2015/nordweil_2015{/gallery}
DTSTART:20150726T140000Z
DTEND:20150726T140000Z
GEO:00;0
LOCATION:Nordweil
ORGANIZER:
SEQUENCE:1
SUMMARY:Festumzug „90 Jahre Musikverein Nordweil“
TRANSP:OPAQUE
URL:https://musikverein-bleichheim.de/index.php/rueckblick/30-festumzug-90-
 jahre-musikverein-nordweil
END:VEVENT
END:VCALENDAR
