BEGIN:VCALENDAR
VERSION:2.0
PRODID:-//musikverein-bleichheim//NONSGML kigkonsult.se iCalcreator 2.30.10
 //
CALSCALE:GREGORIAN
METHOD:PUBLISH
UID:d3478007-297d-4ba3-8bd1-7374a8a4ae14
X-WR-CALNAME:iCagenda
X-WR-CALDESC:Event Management Extension for Joomla!
X-WR-RELCALID:3E26604A-50F4-4449-8B3E-E4F4932D05B5
X-WR-TIMEZONE:UTC
BEGIN:VTIMEZONE
TZID:UTC
END:VTIMEZONE
BEGIN:VEVENT
UID:b26e92de-0c04-4bf7-b98d-c9b282f5d98f
DTSTAMP:20260424T082626Z
CATEGORIES:Gesamtkapelle
CLASS:PUBLIC
DESCRIPTION;ALTREP="CID:<FFFF__=0ABBE548DFE235B58f9e8a93d@coffeebean.com>":
 Am Sonntagmorgen spielte der Musikverein Bleichheim – in fast schon tradit
 ioneller Weise - zur Unterhaltung der Gäste auf dem Brogginger Stockbrunne
 nfest.  Bei schönem Wetter konnte der MVB unter der Leitung seines Dirigen
 ten Udo Schmitz ein abwechslungsreiches Frühschoppenkonzert zum Besten geb
 en.  Anschließend fuhren die Musiker weiter nach Nordweil...\n{gallery}inh
 alte/photos/2015/stockbrunnenfest_broggingen_2015{/gallery}
DTSTART:20150726T113000Z
DTEND:20150726T113000Z
GEO:00;0
LOCATION:Broggingen
ORGANIZER:
SEQUENCE:1
SUMMARY:Stockbrunnenfest
TRANSP:OPAQUE
URL:https://musikverein-bleichheim.de/index.php/rueckblick/31-stockbrunnenf
 est/2015-07-26-11-30
END:VEVENT
END:VCALENDAR
