BEGIN:VCALENDAR
VERSION:2.0
PRODID:-//musikverein-bleichheim//NONSGML kigkonsult.se iCalcreator 2.30.10
 //
CALSCALE:GREGORIAN
METHOD:PUBLISH
UID:0ccd66be-9e1a-43f6-8693-974e18ef95ec
X-WR-CALNAME:iCagenda
X-WR-CALDESC:Event Management Extension for Joomla!
X-WR-RELCALID:3E26604A-50F4-4449-8B3E-E4F4932D05B5
X-WR-TIMEZONE:UTC
BEGIN:VTIMEZONE
TZID:UTC
END:VTIMEZONE
BEGIN:VEVENT
UID:c914e8aa-46a0-466c-920f-9db516829d3f
DTSTAMP:20260424T084040Z
CATEGORIES:Gesamtkapelle
CLASS:PUBLIC
DESCRIPTION;ALTREP="CID:<FFFF__=0ABBE548DFE235B58f9e8a93d@coffeebean.com>":
 Zur Feier von 125 Jahren Musikverein Schweighausen würdigten die zahlreich
 en Musikvereine den Jubilar. Mit einem großen Jubiläumsumzug marschierten 
 die Musiker durch den Ort unter dem Beifall der zahlreichen Zuschauer.  \n
DTSTART:20150621T140000Z
DTEND:20150621T140000Z
GEO:00;0
LOCATION:Schweighausen
ORGANIZER:
SEQUENCE:1
SUMMARY:Festumzug 125-jähriges Jubiläum MV Schweighausen
TRANSP:OPAQUE
URL:https://musikverein-bleichheim.de/index.php/rueckblick/32-festumzug-125
 -jaehriges-jubilaeum-mv-schweighausen/2015-06-21-14-00
END:VEVENT
END:VCALENDAR
