BEGIN:VCALENDAR
VERSION:2.0
PRODID:-//musikverein-bleichheim//NONSGML kigkonsult.se iCalcreator 2.30.10
 //
CALSCALE:GREGORIAN
METHOD:PUBLISH
UID:58a58c70-f43f-4efd-b9da-8c83ee858599
X-WR-CALNAME:iCagenda
X-WR-CALDESC:Event Management Extension for Joomla!
X-WR-RELCALID:3E26604A-50F4-4449-8B3E-E4F4932D05B5
X-WR-TIMEZONE:UTC
BEGIN:VTIMEZONE
TZID:UTC
END:VTIMEZONE
BEGIN:VEVENT
UID:9741a554-eef8-49f4-bba1-9a3475a5734e
DTSTAMP:20260424T084804Z
CATEGORIES:Gesamtkapelle
CLASS:PUBLIC
DESCRIPTION;ALTREP="CID:<FFFF__=0ABBE548DFE235B58f9e8a93d@coffeebean.com>":
 Der Musikverein Bleichheim lud am Pfingstwochenende traditionell zu seinen
  zwei Konzertabenden ein. Das musikalische Programm der Gesamtkapelle des 
 Musikvereins war in ihrem Jubiläumsjahr maßgeblich geprägt von dem Konzert
 stück „Dialog der Generationen“. Unter der musikalischen Leitung von Udo S
 chmitz wurden dem Publikum viele bekannte musikalische Werke präsentiert\,
  die die verschiedenen Generationen geprägt haben. Zur Eröffnung der beide
 n Konzertabende hat sich auch die Jugendkapelle wieder unter der musikalis
 chen Leitung von Martin Appenmaier auf der Bühne präsentiert.   Ein ausfüh
 rlicher Bericht wurde am Dienstag\, 26.05.2015\, in der gedruckten Ausgabe
  der Badischen Zeitung veröffentlicht: Geschmack des Publikums getroffen (
 veröffentlicht am Di\, 26. Mai 2015 auf badische-zeitung.de)\n{gallery}inh
 alte/photos/2015/jahreskonzert_2015{/gallery}\n&nbsp\;
DTSTART:20150524T200000Z
DTEND:20150524T200000Z
GEO:00;0
LOCATION:Kirnburghalle Bleichheim
ORGANIZER:
SEQUENCE:1
SUMMARY:Jahreskonzert
TRANSP:OPAQUE
URL:https://musikverein-bleichheim.de/index.php/rueckblick/33-jahreskonzert
 /2015-05-24-20-00
END:VEVENT
END:VCALENDAR
