BEGIN:VCALENDAR
VERSION:2.0
PRODID:-//musikverein-bleichheim//NONSGML kigkonsult.se iCalcreator 2.30.10
 //
CALSCALE:GREGORIAN
METHOD:PUBLISH
UID:babd7c5f-204c-4610-bbe1-63fc131af1e7
X-WR-CALNAME:iCagenda
X-WR-CALDESC:Event Management Extension for Joomla!
X-WR-RELCALID:3E26604A-50F4-4449-8B3E-E4F4932D05B5
X-WR-TIMEZONE:UTC
BEGIN:VTIMEZONE
TZID:UTC
END:VTIMEZONE
BEGIN:VEVENT
UID:12e40e67-1d9a-4bd7-924f-6a9699766643
DTSTAMP:20260424T084254Z
CATEGORIES:Gesamtkapelle
CLASS:PUBLIC
DESCRIPTION;ALTREP="CID:<FFFF__=0ABBE548DFE235B58f9e8a93d@coffeebean.com>":
 \nMusikverein Bleichheim hat mit sehr gutem Erfolg am Wertungsspiel teilge
 nommen\nIm Rahmen des Musikfestes Baden-Württemberg 2015 vom 15. bis 17. M
 ai in Karlsruhe fanden zahlreiche Wertungsspiele und Konzertwettbewerbe st
 att. Der Musikverein Bleichheim e.V. hat – als einziger Verein aus dem Obe
 rbadischen Blasmusikverband – zum ersten Mal seit langer Zeit wieder an ei
 nem Wertungsspiel teilgenommen und erreichte in der Kategorie 4 (Oberstufe
 ) beim Wertungsspiel für Konzertmusik mit 88\,7 von 100 möglichen Punkten 
 das Prädikat sehr gut.\n\n  Dirigent Udo Schmitz und seine Musiker/innen f
 reuten sich über das ausgezeichnete Ergebnis! \n
DTSTART:20150516T000000Z
DTEND:20150516T000000Z
GEO:00;0
LOCATION:Kalrsruhe
ORGANIZER:
SEQUENCE:1
SUMMARY:Wertungsspiel
TRANSP:OPAQUE
URL:https://musikverein-bleichheim.de/index.php/rueckblick/34-wertungsspiel
 /2015-05-16-00-00
END:VEVENT
END:VCALENDAR
