BEGIN:VCALENDAR
VERSION:2.0
PRODID:-//musikverein-bleichheim//NONSGML kigkonsult.se iCalcreator 2.30.10
 //
CALSCALE:GREGORIAN
METHOD:PUBLISH
UID:7cbdda6a-7726-4245-9f37-b2952f866215
X-WR-CALNAME:iCagenda
X-WR-CALDESC:Event Management Extension for Joomla!
X-WR-RELCALID:3E26604A-50F4-4449-8B3E-E4F4932D05B5
X-WR-TIMEZONE:UTC
BEGIN:VTIMEZONE
TZID:UTC
END:VTIMEZONE
BEGIN:VEVENT
UID:4cdec471-17a6-4a31-8d7d-a601add48304
DTSTAMP:20260424T082450Z
CATEGORIES:Gesamtkapelle
CLASS:PUBLIC
DESCRIPTION;ALTREP="CID:<FFFF__=0ABBE548DFE235B58f9e8a93d@coffeebean.com>":
 Zur Vorbereitung auf das bevorstehende Wertungsspiel beim Landesmusikfest 
 in Karlsruhe haben sich die Musiker ein musikalisches Wochenende im heimis
 chen Probelokal gegönnt. In verschiedenen Gruppen- und Gesamtproben unter 
 der musikalischen Leitung von Udo Schmitz\, Martin Appenmaier und Volker G
 löckle wurde gemeinsam an den Pflicht- und Selbstwahlstücken gearbeitet. D
 ie Kameradschaft kam in den Pausen und nach Feierabend selbstverständlich 
 auch nicht zu kurz und so konnte man das rundum gelungene Wochenende mit e
 iner erfolgreichen Gesamtprobe am Sonntag beschließen.\n{gallery}inhalte/p
 hotos/2015/probe_we_2015{/gallery}
DTSTART:20150313T000000Z
DTEND:20150315T000000Z
GEO:00;0
LOCATION:Bleichheim
ORGANIZER:
SEQUENCE:1
SUMMARY:Probenwochenende 1
TRANSP:OPAQUE
URL:https://musikverein-bleichheim.de/index.php/rueckblick/35-probenwochene
 nde-1
END:VEVENT
END:VCALENDAR
