BEGIN:VCALENDAR
VERSION:2.0
PRODID:-//musikverein-bleichheim//NONSGML kigkonsult.se iCalcreator 2.30.10
 //
CALSCALE:GREGORIAN
METHOD:PUBLISH
UID:2ed5749b-7c3c-4ead-aa9e-9853237224ea
X-WR-CALNAME:iCagenda
X-WR-CALDESC:Event Management Extension for Joomla!
X-WR-RELCALID:3E26604A-50F4-4449-8B3E-E4F4932D05B5
X-WR-TIMEZONE:UTC
BEGIN:VTIMEZONE
TZID:UTC
END:VTIMEZONE
BEGIN:VEVENT
UID:3d4b8510-7170-4c10-b3b1-5aa3c350fc4b
DTSTAMP:20260424T083913Z
CATEGORIES:Gesamtkapelle
CLASS:PUBLIC
DESCRIPTION;ALTREP="CID:<FFFF__=0ABBE548DFE235B58f9e8a93d@coffeebean.com>":
 Am Fasnetsonntag marschierte der MVB als Teil des Umzuges durch die Straße
 n von Bleichheim und unterhielt die Zuschauer mit Marschmusik.\n{gallery}i
 nhalte/photos/2015/umzug_bleichheim_2015{/gallery}
DTSTART:20150215T000000Z
DTEND:20150215T000000Z
GEO:00;0
LOCATION:Bleichheim
ORGANIZER:
SEQUENCE:1
SUMMARY:Fasentsunndig
TRANSP:OPAQUE
URL:https://musikverein-bleichheim.de/index.php/rueckblick/36-fasentsunndig
 /2015-02-15-00-00
END:VEVENT
END:VCALENDAR
