BEGIN:VCALENDAR
VERSION:2.0
PRODID:-//musikverein-bleichheim//NONSGML kigkonsult.se iCalcreator 2.30.10
 //
CALSCALE:GREGORIAN
METHOD:PUBLISH
UID:dd6d460d-000f-40c6-b98a-5dc4cd4956ab
X-WR-CALNAME:iCagenda
X-WR-CALDESC:Event Management Extension for Joomla!
X-WR-RELCALID:3E26604A-50F4-4449-8B3E-E4F4932D05B5
X-WR-TIMEZONE:UTC
BEGIN:VTIMEZONE
TZID:UTC
END:VTIMEZONE
BEGIN:VEVENT
UID:13e1cafd-9341-4057-9075-62a84ed4f49c
DTSTAMP:20260424T083255Z
CATEGORIES:Gesamtkapelle
CLASS:PUBLIC
DESCRIPTION;ALTREP="CID:<FFFF__=0ABBE548DFE235B58f9e8a93d@coffeebean.com>":
 Zum 50-jährigen Bestehen der Narrenzunft wurde drei Tage lang gefeiert. De
 r Musikverein beteiligte sich mit zwei Ständen an der Umzugsstrecke und fü
 hrte natürlich den Fackelumzug am Samstag sowie den großen Jubiläumsumzug 
 am Sonntag musikalisch an.\n{gallery}inhalte/photos/2015/zynduss_jub_2015{
 /gallery}
DTSTART:20150116T000000Z
DTEND:20150118T000000Z
GEO:00;0
LOCATION:Bleichheim
ORGANIZER:
SEQUENCE:1
SUMMARY:Jubiläum Narrenzunft 'Zynduss'
TRANSP:OPAQUE
URL:https://musikverein-bleichheim.de/index.php/rueckblick/37-jubilaeum-nar
 renzunft-zynduss
END:VEVENT
END:VCALENDAR
