BEGIN:VCALENDAR
VERSION:2.0
PRODID:-//musikverein-bleichheim//NONSGML kigkonsult.se iCalcreator 2.30.10
 //
CALSCALE:GREGORIAN
METHOD:PUBLISH
UID:e18c2152-185b-4122-b11d-7313fdbfd3c0
X-WR-CALNAME:iCagenda
X-WR-CALDESC:Event Management Extension for Joomla!
X-WR-RELCALID:3E26604A-50F4-4449-8B3E-E4F4932D05B5
X-WR-TIMEZONE:UTC
BEGIN:VTIMEZONE
TZID:UTC
END:VTIMEZONE
BEGIN:VEVENT
UID:cab92c21-d459-4bb6-b19e-efc824474053
DTSTAMP:20260424T084329Z
CATEGORIES:Gesamtkapelle
CLASS:PUBLIC
DESCRIPTION;ALTREP="CID:<FFFF__=0ABBE548DFE235B58f9e8a93d@coffeebean.com>":
 Im August wurde auf dem Weinfest Emmendingen die neue Breisgauer Weinprinz
 essin gewählt. Isabella überzeugte die Jury und wird den Breisgauer Wein i
 n der Saison 2014/15 ehrwürdig und charmant vertreten. Ihr zu Ehren wurde 
 am Sonntag Abend ein Empfang in der Kirnburghalle in Bleichheim gegeben\, 
 den der Musikverein Bleichheim musikalisch umrahmte.\n{gallery}inhalte/pho
 tos/2014/empfang_weinprinzessin_2014{/gallery}
DTSTART:20141005T190000Z
DTEND:20141005T190000Z
GEO:00;0
LOCATION:Kirnburghalle Bleichheim
ORGANIZER:
SEQUENCE:1
SUMMARY:Empfang für die Weinprinzessin
TRANSP:OPAQUE
URL:https://musikverein-bleichheim.de/index.php/rueckblick/39-empfang-fuer-
 die-weinprinzessin/2014-10-05-19-00
END:VEVENT
END:VCALENDAR
