BEGIN:VCALENDAR
VERSION:2.0
PRODID:-//musikverein-bleichheim//NONSGML kigkonsult.se iCalcreator 2.30.10
 //
CALSCALE:GREGORIAN
METHOD:PUBLISH
UID:a96ebbd7-0bd8-425a-acfc-a5f93563db6d
X-WR-CALNAME:iCagenda
X-WR-CALDESC:Event Management Extension for Joomla!
X-WR-RELCALID:3E26604A-50F4-4449-8B3E-E4F4932D05B5
X-WR-TIMEZONE:UTC
BEGIN:VTIMEZONE
TZID:UTC
END:VTIMEZONE
BEGIN:VEVENT
UID:7a12f06a-55bf-41a9-b182-2f59dd25dc8f
DTSTAMP:20260424T083918Z
CATEGORIES:Gesamtkapelle
CLASS:PUBLIC
DESCRIPTION;ALTREP="CID:<FFFF__=0ABBE548DFE235B58f9e8a93d@coffeebean.com>":
 An den beiden Konzertabenden des Musikverein Bleichheim e.V. am Pfingtswoc
 henende ging die Besatzung inklusive Musiker und Zuhörer an Bord der Kirnb
 urghalle und unternahm unter der Leitung von Captain Schmitz eine musikali
 sche Reise durch „Wasser\, See &amp\; Mehr“. Die musikalische Schiffstaufe
  wurde zu Beginn der Reise um 20 Uhr durch die Jugendkapelle unter der mus
 ikalischen Leitung des Steuermanns Martin Appenmaier vorgenommen. Vor\, zw
 ischen und nach dem Konzert wurde die Besatzung mit leckeren Spezialitäten
  aus der Kombüse verwöhnt und Moderator Dieter Machauer sorgte dafür\, das
 s alle Mitreisenden gut unterhalten und am Ende wohlbehalten wieder im Hei
 mathafen angekommen sind.\n{gallery}inhalte/photos/2016/Jahreskonzert_2016
 {/gallery}
DTSTART:20160514T000000Z
DTEND:20160514T000000Z
GEO:+48.207676;+7.827548
LOCATION:Kirnburghalle Bleichheim
ORGANIZER:
SEQUENCE:1
SUMMARY:Jahreskonzert
TRANSP:OPAQUE
URL:https://musikverein-bleichheim.de/index.php/rueckblick/4-jahreskonzert/
 2016-05-14-00-00
END:VEVENT
END:VCALENDAR
