BEGIN:VCALENDAR
VERSION:2.0
PRODID:-//musikverein-bleichheim//NONSGML kigkonsult.se iCalcreator 2.30.10
 //
CALSCALE:GREGORIAN
METHOD:PUBLISH
UID:3cc1d436-e628-4898-aa2b-0acf6c2e3ca8
X-WR-CALNAME:iCagenda
X-WR-CALDESC:Event Management Extension for Joomla!
X-WR-RELCALID:3E26604A-50F4-4449-8B3E-E4F4932D05B5
X-WR-TIMEZONE:UTC
BEGIN:VTIMEZONE
TZID:UTC
END:VTIMEZONE
BEGIN:VEVENT
UID:007ec533-dd41-45db-97c8-1e4af1e27167
DTSTAMP:20260424T094653Z
CATEGORIES:Gesamtkapelle
CLASS:PUBLIC
DESCRIPTION;ALTREP="CID:<FFFF__=0ABBE548DFE235B58f9e8a93d@coffeebean.com>":
 Am Erntedankfest veranstaltete der Musikverein Auggen auf dem Obsthof Guge
 lmeier sein Hoffest\, bei dem erstmalig der Musikverein Bleichheim zu Gast
  war. Die Bleichheim Musiker eröffneten den gemütlichen Hock und sorgten f
 ür die passende musikalische Umrahmung für die kulinarischen Leckerbissen 
 in der Mittagszeit\n{gallery}inhalte/photos/2014/auggen_2014{/gallery}
DTSTART:20141003T000000Z
DTEND:20141003T000000Z
GEO:00;0
LOCATION:Auggen
ORGANIZER:
SEQUENCE:1
SUMMARY:Herbstfest in Auggen
TRANSP:OPAQUE
URL:https://musikverein-bleichheim.de/index.php/rueckblick/40-herbstfest-in
 -auggen/2014-10-03-00-00
END:VEVENT
END:VCALENDAR
