BEGIN:VCALENDAR
VERSION:2.0
PRODID:-//musikverein-bleichheim//NONSGML kigkonsult.se iCalcreator 2.30.10
 //
CALSCALE:GREGORIAN
METHOD:PUBLISH
UID:5fd40e57-7c48-4af0-820e-02341857c1f4
X-WR-CALNAME:iCagenda
X-WR-CALDESC:Event Management Extension for Joomla!
X-WR-RELCALID:3E26604A-50F4-4449-8B3E-E4F4932D05B5
X-WR-TIMEZONE:UTC
BEGIN:VTIMEZONE
TZID:UTC
END:VTIMEZONE
BEGIN:VEVENT
UID:717f6ed8-97e1-4bbd-a73d-cd67050d8b3f
DTSTAMP:20260424T095235Z
CATEGORIES:Gesamtkapelle
CLASS:PUBLIC
DESCRIPTION;ALTREP="CID:<FFFF__=0ABBE548DFE235B58f9e8a93d@coffeebean.com>":
 Zu Ehren der Bleichheimer Bürgerin Klara Schwendemann spielte der Musikver
 ein Bleichheim zu Ihrem 100. Geburtstag ein Ständerle und gratulierte rech
 t herzlich!!!\n{gallery}inhalte/photos/2014/klara_schwendemann_2014{/galle
 ry}
DTSTART:20140924T000000Z
DTEND:20140924T000000Z
GEO:00;0
LOCATION:Bleichheim
ORGANIZER:
SEQUENCE:1
SUMMARY:100. Geburtstag von Klara Schwendemann
TRANSP:OPAQUE
URL:https://musikverein-bleichheim.de/index.php/rueckblick/41-100-geburtsta
 g-von-klara-schwendemann/2014-09-24-00-00
END:VEVENT
END:VCALENDAR
