BEGIN:VCALENDAR
VERSION:2.0
PRODID:-//musikverein-bleichheim//NONSGML kigkonsult.se iCalcreator 2.30.10
 //
CALSCALE:GREGORIAN
METHOD:PUBLISH
UID:4eaf0268-a926-4678-9c91-15c7202b48a6
X-WR-CALNAME:iCagenda
X-WR-CALDESC:Event Management Extension for Joomla!
X-WR-RELCALID:3E26604A-50F4-4449-8B3E-E4F4932D05B5
X-WR-TIMEZONE:UTC
BEGIN:VTIMEZONE
TZID:UTC
END:VTIMEZONE
BEGIN:VEVENT
UID:3cd2ca79-b624-49ad-a8a4-ee1f60ab03dd
DTSTAMP:20260424T083918Z
CATEGORIES:Gesamtkapelle
CLASS:PUBLIC
DESCRIPTION;ALTREP="CID:<FFFF__=0ABBE548DFE235B58f9e8a93d@coffeebean.com>":
 Am Sonntag veranstaltete der Musikverein Bleichheim sein alljährliches Her
 bstfest – in diesem Jahr auf dem Betriebsgelände der Firma Holzbau Vetter 
 in Bleichheim. Für reichlich und abwechslungsreiche musikalische Unterhalt
 ung war durch die befreundeten Gastvereine aus Riegel\, Kiechlinsbergen un
 d Hecklingen sowie unsere Jugendkapelle bestens gesorgt. Wie auch in den v
 ergangen Jahren verwöhnte der Musikverein seine Gäste mit einem umfangreic
 hen kulinarischen Angebot. Neben unserer reichhaltigen Kaffee- und Kuchent
 heke gab es unter anderem selbstgemachtes Wild- und Schweinegulasch und Fl
 ammenkuchen aus dem Holzofen. So konnten die Gäste einen sonnigen Tag in B
 leichheim verbringen und das musikalische Festwochenende bis in die Abends
 tunden gemütlich ausklingen lassen.\n{gallery}inhalte/photos/2014/herbstfe
 st_2014{/gallery}
DTSTART:20140914T000000Z
DTEND:20140914T000000Z
GEO:00;0
LOCATION:auf dem Gelände der Firma Holzbau Vetter in Bleichheim
ORGANIZER:
SEQUENCE:1
SUMMARY:Herbstfest
TRANSP:OPAQUE
URL:https://musikverein-bleichheim.de/index.php/rueckblick/42-herbstfest
END:VEVENT
END:VCALENDAR
