BEGIN:VCALENDAR
VERSION:2.0
PRODID:-//musikverein-bleichheim//NONSGML kigkonsult.se iCalcreator 2.30.10
 //
CALSCALE:GREGORIAN
METHOD:PUBLISH
UID:bd078bba-4e87-4af0-a5b1-834f720755ee
X-WR-CALNAME:iCagenda
X-WR-CALDESC:Event Management Extension for Joomla!
X-WR-RELCALID:3E26604A-50F4-4449-8B3E-E4F4932D05B5
X-WR-TIMEZONE:UTC
BEGIN:VTIMEZONE
TZID:UTC
END:VTIMEZONE
BEGIN:VEVENT
UID:985bf575-78b4-4a13-9cba-6c5f38d3c259
DTSTAMP:20260424T084527Z
CATEGORIES:Gesamtkapelle
CLASS:PUBLIC
DESCRIPTION;ALTREP="CID:<FFFF__=0ABBE548DFE235B58f9e8a93d@coffeebean.com>":
 In den letzten Jahrzehnten hat sich der Begriff „Tattoo“ vom „Zapfenstreic
 h“ im militärischen Sinne zu einer musikalischen Veranstaltung mit Bands u
 nd marschierenden Formationen entwickelt – und genau das wurde dem Publiku
 m am Sonntag\, den 3. Juli in Bleichheim geboten: Musikverein Bleichheim m
 it Dudelsack und Alphorn in Bewegung. Nach einer ersten privaten „Feuertau
 fe“ des Dudelsack-Parts im kleinen Kreis im Sommer 2015 entwickelte der MV
 B das erfolgversprechende Konzept für das erste öffentliche Bleichtal Tatt
 oo auf dem Bolzplatz in Bleichheim und stieß damit beim Publikum auf große
  Begeisterung.  Stilecht bereichert wurde das Event am Sonntag Abend durch
  die Moderation des Schottland-Spezialisten Heiner Bueb sowie der Verkostu
 ng regionaler Whiskys der Kleinbrennerei Fitzke und ausgewählter schottisc
 her Whiskys.\n{gallery}inhalte/photos/2016/tattoo_2016{/gallery}
DTSTART:20160703T183000Z
DTEND:20160703T183000Z
GEO:+48.209309;+7.829179
LOCATION:Bolzplatz Bleichheim
ORGANIZER:
SEQUENCE:1
SUMMARY:2nd Bleichtal Tattoo
TRANSP:OPAQUE
URL:https://musikverein-bleichheim.de/index.php/rueckblick/5-2nd-bleichtal-
 tattoo/2016-07-03-18-30
END:VEVENT
END:VCALENDAR
