BEGIN:VCALENDAR
VERSION:2.0
PRODID:-//musikverein-bleichheim//NONSGML kigkonsult.se iCalcreator 2.30.10
 //
CALSCALE:GREGORIAN
METHOD:PUBLISH
UID:a206f699-79fb-43da-b931-87d42c73fb17
X-WR-CALNAME:iCagenda
X-WR-CALDESC:Event Management Extension for Joomla!
X-WR-RELCALID:3E26604A-50F4-4449-8B3E-E4F4932D05B5
X-WR-TIMEZONE:UTC
BEGIN:VTIMEZONE
TZID:UTC
END:VTIMEZONE
BEGIN:VEVENT
UID:8c01d675-87e2-4199-820f-f36ed5a9c551
DTSTAMP:20260424T095418Z
CATEGORIES:Gesamtkapelle
CLASS:PUBLIC
DESCRIPTION;ALTREP="CID:<FFFF__=0ABBE548DFE235B58f9e8a93d@coffeebean.com>":
 Der Musikverein Wagenstadt hat zu seinem 18. Sommerhock auf dem Dorfplatz 
 geladen. Der Musikverein Bleichheim unterhielt die Gäste des Hocks am Sonn
 tag Nachmittag mit einem abwechslungsreichen Unterhaltungsprogramm.\n{gall
 ery}inhalte/photos/2016/wagenstadt_2016{/gallery}
DTSTART:20160626T130000Z
DTEND:20160626T150000Z
GEO:+48.207157;+7.795837
LOCATION:Wagenstadt
ORGANIZER:
SEQUENCE:1
SUMMARY:Musikhock Wagenstadt
TRANSP:OPAQUE
URL:https://musikverein-bleichheim.de/index.php/rueckblick/6-musikhock-wage
 nstadt/2016-06-26-13-00
END:VEVENT
END:VCALENDAR
